BEGIN:VCALENDAR
VERSION:2.0
PRODID:-//TYPO3/NONSGML Calendarize//EN


BEGIN:VEVENT
UID:calendarize-fizmat-salidojums
DTSTAMP:20240905T141018Z

DTSTART:20241011T210000Z
DTEND:20241011T210000Z
    
SUMMARY:FizMat salidojums
DESCRIPTION:12.oktobrī nāc uz FIZMATU SALIDOJUMU un svinēsim Fizmatus kopā! Salidojumā ir gaidīts ikviens\, kas sirdī sevi uzskata par Fizmatu\nReģistrējies pasākumam\, aizpildot anketu : https://ej.uz/fizmatisalido\nInformācija par pasākumu: https://fizmati.lv/salidojums/
X-ALT-DESC;FMTTYPE=text/html:<p>12.oktobrī nāc uz FIZMATU SALIDOJUMU un svinēsim Fizmatus kopā!&nbsp\;Salidojumā ir gaidīts ikviens\, kas sirdī sevi uzskata par Fizmatu</p>\n<p>Reģistrējies pasākumam\, aizpildot anketu :&nbsp\;<a href="https://ej.uz/fizmatisalido">https://ej.uz/fizmatisalido</a></p>\n<p>Informācija par pasākumu:&nbsp\;<a href="https://fizmati.lv/salidojums/">https://fizmati.lv/salidojums/</a></p>
LOCATION:
END:VEVENT

END:VCALENDAR